BEGIN:VCALENDAR
VERSION:2.0
PRODID:-//Association of Northern Ireland Motor Clubs - ECPv6.15.20//NONSGML v1.0//EN
CALSCALE:GREGORIAN
METHOD:PUBLISH
X-WR-CALNAME:Association of Northern Ireland Motor Clubs
X-ORIGINAL-URL:https://www.motorsportni.org
X-WR-CALDESC:Events for Association of Northern Ireland Motor Clubs
REFRESH-INTERVAL;VALUE=DURATION:PT1H
X-Robots-Tag:noindex
X-PUBLISHED-TTL:PT1H
BEGIN:VTIMEZONE
TZID:Europe/London
BEGIN:DAYLIGHT
TZOFFSETFROM:+0000
TZOFFSETTO:+0100
TZNAME:BST
DTSTART:20220327T010000
END:DAYLIGHT
BEGIN:STANDARD
TZOFFSETFROM:+0100
TZOFFSETTO:+0000
TZNAME:GMT
DTSTART:20221030T010000
END:STANDARD
BEGIN:DAYLIGHT
TZOFFSETFROM:+0000
TZOFFSETTO:+0100
TZNAME:BST
DTSTART:20230326T010000
END:DAYLIGHT
BEGIN:STANDARD
TZOFFSETFROM:+0100
TZOFFSETTO:+0000
TZNAME:GMT
DTSTART:20231029T010000
END:STANDARD
BEGIN:DAYLIGHT
TZOFFSETFROM:+0000
TZOFFSETTO:+0100
TZNAME:BST
DTSTART:20240331T010000
END:DAYLIGHT
BEGIN:STANDARD
TZOFFSETFROM:+0100
TZOFFSETTO:+0000
TZNAME:GMT
DTSTART:20241027T010000
END:STANDARD
BEGIN:DAYLIGHT
TZOFFSETFROM:+0000
TZOFFSETTO:+0100
TZNAME:BST
DTSTART:20250330T010000
END:DAYLIGHT
BEGIN:STANDARD
TZOFFSETFROM:+0100
TZOFFSETTO:+0000
TZNAME:GMT
DTSTART:20251026T010000
END:STANDARD
BEGIN:DAYLIGHT
TZOFFSETFROM:+0000
TZOFFSETTO:+0100
TZNAME:BST
DTSTART:20260329T010000
END:DAYLIGHT
BEGIN:STANDARD
TZOFFSETFROM:+0100
TZOFFSETTO:+0000
TZNAME:GMT
DTSTART:20261025T010000
END:STANDARD
BEGIN:DAYLIGHT
TZOFFSETFROM:+0000
TZOFFSETTO:+0100
TZNAME:BST
DTSTART:20270328T010000
END:DAYLIGHT
BEGIN:STANDARD
TZOFFSETFROM:+0100
TZOFFSETTO:+0000
TZNAME:GMT
DTSTART:20271031T010000
END:STANDARD
END:VTIMEZONE
BEGIN:VEVENT
DTSTART;VALUE=DATE:20260328
DTEND;VALUE=DATE:20260329
DTSTAMP:20260419T151232
CREATED:20251002T122902Z
LAST-MODIFIED:20251126T112920Z
UID:9730-1774656000-1774742399@www.motorsportni.org
SUMMARY:Race Meeting - 500MRCI
DESCRIPTION:Race classes – Fiesta/Mini\, FF1600\, Saloons/Roadsports\, Mazda\, Legends\, Formula Vees \,  Superkarts
URL:https://www.motorsportni.org/event/race-meeting-500mrci/
LOCATION:Kirkistown
CATEGORIES:Race Meeting
ATTACH;FMTTYPE=image/jpeg:https://www.motorsportni.org/wp-content/uploads/2023/01/Race-DSC_1982-rji.jpg
END:VEVENT
BEGIN:VEVENT
DTSTART;VALUE=DATE:20250927
DTEND;VALUE=DATE:20250928
DTSTAMP:20260419T151232
CREATED:20250110T101235Z
LAST-MODIFIED:20250110T101235Z
UID:7971-1758931200-1759017599@www.motorsportni.org
SUMMARY:Race Meeting - 500 MRCI
DESCRIPTION:
URL:https://www.motorsportni.org/event/race-meeting-500-mrci-13/
LOCATION:Kirkistown
CATEGORIES:Race Meeting
ATTACH;FMTTYPE=image/jpeg:https://www.motorsportni.org/wp-content/uploads/2022/12/Race-2-GC.jpg
END:VEVENT
BEGIN:VEVENT
DTSTART;VALUE=DATE:20250830
DTEND;VALUE=DATE:20250831
DTSTAMP:20260419T151232
CREATED:20250110T094612Z
LAST-MODIFIED:20250110T094612Z
UID:7938-1756512000-1756598399@www.motorsportni.org
SUMMARY:Race Meeting - 500 MRCI
DESCRIPTION:
URL:https://www.motorsportni.org/event/race-meeting-500-mrci-12/
LOCATION:Kirkistown
CATEGORIES:Race Meeting
ATTACH;FMTTYPE=image/jpeg:https://www.motorsportni.org/wp-content/uploads/2023/01/Race-DSC_1982-rji.jpg
END:VEVENT
BEGIN:VEVENT
DTSTART;VALUE=DATE:20250726
DTEND;VALUE=DATE:20250727
DTSTAMP:20260419T151232
CREATED:20250107T133126Z
LAST-MODIFIED:20250408T073504Z
UID:7888-1753488000-1753574399@www.motorsportni.org
SUMMARY:Race Meeting - 500 MRCI
DESCRIPTION:
URL:https://www.motorsportni.org/event/race-meeting-500-mrci-11/
LOCATION:Kirkistown
CATEGORIES:Race Meeting
ATTACH;FMTTYPE=image/jpeg:https://www.motorsportni.org/wp-content/uploads/2022/12/Race-2-GC.jpg
END:VEVENT
BEGIN:VEVENT
DTSTART;VALUE=DATE:20250628
DTEND;VALUE=DATE:20250629
DTSTAMP:20260419T151232
CREATED:20250106T150921Z
LAST-MODIFIED:20250106T150921Z
UID:7847-1751068800-1751155199@www.motorsportni.org
SUMMARY:Race Meeting
DESCRIPTION:
URL:https://www.motorsportni.org/event/race-meeting/
LOCATION:Kirkistown
CATEGORIES:Race Meeting
ATTACH;FMTTYPE=image/jpeg:https://www.motorsportni.org/wp-content/uploads/2022/12/Race-3-GC.jpg
END:VEVENT
BEGIN:VEVENT
DTSTART;VALUE=DATE:20250531
DTEND;VALUE=DATE:20250601
DTSTAMP:20260419T151232
CREATED:20250106T143529Z
LAST-MODIFIED:20250106T143529Z
UID:7819-1748649600-1748735999@www.motorsportni.org
SUMMARY:Race Meeting - 500 MRCI
DESCRIPTION:
URL:https://www.motorsportni.org/event/race-meeting-500-mrci-10/
LOCATION:Kirkistown
CATEGORIES:Race Meeting
ATTACH;FMTTYPE=image/jpeg:https://www.motorsportni.org/wp-content/uploads/2022/12/Race-3-GC.jpg
END:VEVENT
BEGIN:VEVENT
DTSTART;VALUE=DATE:20250517
DTEND;VALUE=DATE:20250519
DTSTAMP:20260419T151232
CREATED:20250106T142354Z
LAST-MODIFIED:20250106T142354Z
UID:7803-1747440000-1747612799@www.motorsportni.org
SUMMARY:Race Meeting - BARC/BADMC
DESCRIPTION:
URL:https://www.motorsportni.org/event/race-meeting-barc-badmc/
LOCATION:Bishopscourt Race Circuit
CATEGORIES:Race Meeting
ATTACH;FMTTYPE=image/jpeg:https://www.motorsportni.org/wp-content/uploads/2022/12/Race-2-GC.jpg
END:VEVENT
BEGIN:VEVENT
DTSTART;VALUE=DATE:20250426
DTEND;VALUE=DATE:20250427
DTSTAMP:20260419T151232
CREATED:20250106T130604Z
LAST-MODIFIED:20250106T130604Z
UID:7775-1745625600-1745711999@www.motorsportni.org
SUMMARY:Race Meeting - 500 MRCI
DESCRIPTION:
URL:https://www.motorsportni.org/event/race-meeting-500-mrci-9/
LOCATION:Kirkistown
CATEGORIES:Race Meeting
ATTACH;FMTTYPE=image/jpeg:https://www.motorsportni.org/wp-content/uploads/2023/01/Race-DSC_1982-rji.jpg
END:VEVENT
BEGIN:VEVENT
DTSTART;VALUE=DATE:20250329
DTEND;VALUE=DATE:20250330
DTSTAMP:20260419T151232
CREATED:20250102T095437Z
LAST-MODIFIED:20250102T095437Z
UID:7727-1743206400-1743292799@www.motorsportni.org
SUMMARY:Race Meeting - 500 MRCI
DESCRIPTION:
URL:https://www.motorsportni.org/event/race-meeting-500-mrci-8/
LOCATION:Kirkistown
CATEGORIES:Race Meeting
ATTACH;FMTTYPE=image/jpeg:https://www.motorsportni.org/wp-content/uploads/2023/01/Race-DSC_1982-rji.jpg
END:VEVENT
BEGIN:VEVENT
DTSTART;VALUE=DATE:20240928
DTEND;VALUE=DATE:20240929
DTSTAMP:20260419T151232
CREATED:20231128T140812Z
LAST-MODIFIED:20231128T140812Z
UID:4703-1727481600-1727567999@www.motorsportni.org
SUMMARY:Race meeting - 500 MRCI
DESCRIPTION:
URL:https://www.motorsportni.org/event/race-meeting-500-mrci-7/
LOCATION:Kirkistown
CATEGORIES:Race Meeting
ATTACH;FMTTYPE=image/jpeg:https://www.motorsportni.org/wp-content/uploads/2022/12/Race-1-GC.jpg
END:VEVENT
BEGIN:VEVENT
DTSTART;VALUE=DATE:20240831
DTEND;VALUE=DATE:20240901
DTSTAMP:20260419T151232
CREATED:20231128T133057Z
LAST-MODIFIED:20231128T133057Z
UID:4671-1725062400-1725148799@www.motorsportni.org
SUMMARY:Race meeting - 500 MRCI
DESCRIPTION:
URL:https://www.motorsportni.org/event/race-meeting-500-mrci-6/
LOCATION:Kirkistown
CATEGORIES:Race Meeting
ATTACH;FMTTYPE=image/jpeg:https://www.motorsportni.org/wp-content/uploads/2022/12/Race-2-GC.jpg
END:VEVENT
BEGIN:VEVENT
DTSTART;VALUE=DATE:20240727
DTEND;VALUE=DATE:20240728
DTSTAMP:20260419T151232
CREATED:20231127T141045Z
LAST-MODIFIED:20231127T141045Z
UID:4628-1722038400-1722124799@www.motorsportni.org
SUMMARY:Race meeting - 500 MRCI
DESCRIPTION:
URL:https://www.motorsportni.org/event/race-meeting-500-mrci-5/
LOCATION:Kirkistown
CATEGORIES:Race Meeting
ATTACH;FMTTYPE=image/jpeg:https://www.motorsportni.org/wp-content/uploads/2022/12/Race-2-GC.jpg
END:VEVENT
BEGIN:VEVENT
DTSTART;VALUE=DATE:20240622
DTEND;VALUE=DATE:20240623
DTSTAMP:20260419T151232
CREATED:20231127T123330Z
LAST-MODIFIED:20231127T123330Z
UID:4585-1719014400-1719100799@www.motorsportni.org
SUMMARY:Race meeting - 500 MRCI
DESCRIPTION:
URL:https://www.motorsportni.org/event/race-meeting-500-mrci-4/
LOCATION:Kirkistown
CATEGORIES:Race Meeting
ATTACH;FMTTYPE=image/jpeg:https://www.motorsportni.org/wp-content/uploads/2023/01/Race-DSC_1982-rji.jpg
END:VEVENT
BEGIN:VEVENT
DTSTART;VALUE=DATE:20240525
DTEND;VALUE=DATE:20240526
DTSTAMP:20260419T151232
CREATED:20231116T142615Z
LAST-MODIFIED:20231116T142615Z
UID:4481-1716595200-1716681599@www.motorsportni.org
SUMMARY:Race Meeting - 500 MRCI
DESCRIPTION:
URL:https://www.motorsportni.org/event/race-meeting-500-mrci-3/
LOCATION:Kirkistown
CATEGORIES:Race Meeting
ATTACH;FMTTYPE=image/jpeg:https://www.motorsportni.org/wp-content/uploads/2022/12/Race-3-GC.jpg
END:VEVENT
BEGIN:VEVENT
DTSTART;VALUE=DATE:20240518
DTEND;VALUE=DATE:20240520
DTSTAMP:20260419T151232
CREATED:20231116T141724Z
LAST-MODIFIED:20231213T112855Z
UID:4467-1715990400-1716163199@www.motorsportni.org
SUMMARY:Race Meeting - BADMC/BARC
DESCRIPTION:
URL:https://www.motorsportni.org/event/race-meeting-badmc-barc/
LOCATION:Bishopscourt Race Circuit
CATEGORIES:Race Meeting
ATTACH;FMTTYPE=image/jpeg:https://www.motorsportni.org/wp-content/uploads/2022/12/Race-2-GC.jpg
END:VEVENT
BEGIN:VEVENT
DTSTART;VALUE=DATE:20240427
DTEND;VALUE=DATE:20240428
DTSTAMP:20260419T151232
CREATED:20231115T141404Z
LAST-MODIFIED:20231115T141404Z
UID:4430-1714176000-1714262399@www.motorsportni.org
SUMMARY:Race Meeting - 500 MRCI
DESCRIPTION:
URL:https://www.motorsportni.org/event/race-meeting-500-mrci-2/
LOCATION:Kirkistown
CATEGORIES:Race Meeting
ATTACH;FMTTYPE=image/jpeg:https://www.motorsportni.org/wp-content/uploads/2022/12/Race-3-GC.jpg
END:VEVENT
BEGIN:VEVENT
DTSTART;VALUE=DATE:20240323
DTEND;VALUE=DATE:20240324
DTSTAMP:20260419T151232
CREATED:20231106T161409Z
LAST-MODIFIED:20231106T161409Z
UID:4254-1711152000-1711238399@www.motorsportni.org
SUMMARY:Race meeting - 500 MRCI
DESCRIPTION:
URL:https://www.motorsportni.org/event/race-meeting-500-mrci/
LOCATION:Kirkistown
CATEGORIES:Race Meeting
ATTACH;FMTTYPE=image/jpeg:https://www.motorsportni.org/wp-content/uploads/2023/01/Race-DSC_1982-rji.jpg
END:VEVENT
BEGIN:VEVENT
DTSTART;VALUE=DATE:20231021
DTEND;VALUE=DATE:20231022
DTSTAMP:20260419T151232
CREATED:20221223T114842Z
LAST-MODIFIED:20230214T165013Z
UID:783-1697846400-1697932799@www.motorsportni.org
SUMMARY:CHAMPIONSHIP RACE MEETING - 500 MRCI
DESCRIPTION:500 Motor Racing Club of Ireland – Championship Race Meeting
URL:https://www.motorsportni.org/event/500-mrci-12/
CATEGORIES:Race Meeting
ATTACH;FMTTYPE=image/jpeg:https://www.motorsportni.org/wp-content/uploads/2022/12/Race-2-GC.jpg
END:VEVENT
BEGIN:VEVENT
DTSTART;VALUE=DATE:20230930
DTEND;VALUE=DATE:20231001
DTSTAMP:20260419T151232
CREATED:20221223T113156Z
LAST-MODIFIED:20230210T093411Z
UID:759-1696032000-1696118399@www.motorsportni.org
SUMMARY:CHAMPIONSHIP RACE MEETING - 500 MRCI
DESCRIPTION:500 Motor Racing Club of Ireland – Race Meeting
URL:https://www.motorsportni.org/event/500-mrci-10/
CATEGORIES:Race Meeting
ATTACH;FMTTYPE=image/jpeg:https://www.motorsportni.org/wp-content/uploads/2022/12/Race-2-GC.jpg
END:VEVENT
BEGIN:VEVENT
DTSTART;VALUE=DATE:20230826
DTEND;VALUE=DATE:20230827
DTSTAMP:20260419T151232
CREATED:20221223T110552Z
LAST-MODIFIED:20230724T102552Z
UID:718-1693008000-1693094399@www.motorsportni.org
SUMMARY:CHAMPIONSHIP RACE MEETING - 500 MRCI
DESCRIPTION:500 Motor Racing Club of Ireland – Spring Race Meeting
URL:https://www.motorsportni.org/event/500-mrci-9/
CATEGORIES:Race Meeting
ATTACH;FMTTYPE=image/jpeg:https://www.motorsportni.org/wp-content/uploads/2023/01/Race-DSC_1982-rji.jpg
END:VEVENT
BEGIN:VEVENT
DTSTART;VALUE=DATE:20230728
DTEND;VALUE=DATE:20230730
DTSTAMP:20260419T151232
CREATED:20221223T101937Z
LAST-MODIFIED:20230724T102429Z
UID:673-1690502400-1690675199@www.motorsportni.org
SUMMARY:CHAMPIONSHIP RACE MEETING - 500 MRCI
DESCRIPTION:
URL:https://www.motorsportni.org/event/500-mrci-6/
CATEGORIES:Race Meeting
ATTACH;FMTTYPE=image/jpeg:https://www.motorsportni.org/wp-content/uploads/2023/01/Race-DSC_1982-rji.jpg
END:VEVENT
BEGIN:VEVENT
DTSTART;VALUE=DATE:20230623
DTEND;VALUE=DATE:20230625
DTSTAMP:20260419T151232
CREATED:20221223T100139Z
LAST-MODIFIED:20230112T112537Z
UID:647-1687478400-1687651199@www.motorsportni.org
SUMMARY:CHAMPIONSHIP RACE MEETING - 500 MRCI
DESCRIPTION:RESULTS \nEVENT REPORT
URL:https://www.motorsportni.org/event/500-mrci-5/
LOCATION:Kirkistown
CATEGORIES:Race Meeting
ATTACH;FMTTYPE=image/jpeg:https://www.motorsportni.org/wp-content/uploads/2023/01/Kart-DSC_0156.jpg
END:VEVENT
BEGIN:VEVENT
DTSTART;VALUE=DATE:20230527
DTEND;VALUE=DATE:20230528
DTSTAMP:20260419T151232
CREATED:20221223T094111Z
LAST-MODIFIED:20230112T102102Z
UID:613-1685145600-1685231999@www.motorsportni.org
SUMMARY:CHAMPIONSHIP RACE MEETING - 500 MRCI
DESCRIPTION:RESULTS \nEVENT REPORT
URL:https://www.motorsportni.org/event/500-mrci-3/
CATEGORIES:Race Meeting
ATTACH;FMTTYPE=image/jpeg:https://www.motorsportni.org/wp-content/uploads/2022/12/Race-3-GC.jpg
END:VEVENT
BEGIN:VEVENT
DTSTART;VALUE=DATE:20230506
DTEND;VALUE=DATE:20230508
DTSTAMP:20260419T151232
CREATED:20221223T091508Z
LAST-MODIFIED:20230112T100128Z
UID:588-1683331200-1683503999@www.motorsportni.org
SUMMARY:RACE MEETING - BADMC/BARC
DESCRIPTION:
URL:https://www.motorsportni.org/event/badmc-barc/
LOCATION:Bishopscourt Race Circuit
CATEGORIES:Race Meeting
ATTACH;FMTTYPE=image/jpeg:https://www.motorsportni.org/wp-content/uploads/2022/12/Race-2-GC.jpg
END:VEVENT
BEGIN:VEVENT
DTSTART;VALUE=DATE:20230325
DTEND;VALUE=DATE:20230326
DTSTAMP:20260419T151232
CREATED:20221211T211041Z
LAST-MODIFIED:20230329T123359Z
UID:422-1679702400-1679788799@www.motorsportni.org
SUMMARY:CHAMPIONSHIP RACE MEETING - 500 MRCI
DESCRIPTION:500 Motor Racing Club of Ireland – March Race Meeting \nRESULTS \nEVENT REPORT
URL:https://www.motorsportni.org/event/championship-race-meeting-500-mrci/
CATEGORIES:Race Meeting
ATTACH;FMTTYPE=image/jpeg:https://www.motorsportni.org/wp-content/uploads/2022/12/Sprint-3-GC.jpg
END:VEVENT
END:VCALENDAR