BEGIN:VCALENDAR
VERSION:2.0
PRODID:-//Association of Northern Ireland Motor Clubs - ECPv6.15.20//NONSGML v1.0//EN
CALSCALE:GREGORIAN
METHOD:PUBLISH
X-WR-CALNAME:Association of Northern Ireland Motor Clubs
X-ORIGINAL-URL:https://www.motorsportni.org
X-WR-CALDESC:Events for Association of Northern Ireland Motor Clubs
REFRESH-INTERVAL;VALUE=DURATION:PT1H
X-Robots-Tag:noindex
X-PUBLISHED-TTL:PT1H
BEGIN:VTIMEZONE
TZID:Europe/London
BEGIN:DAYLIGHT
TZOFFSETFROM:+0000
TZOFFSETTO:+0100
TZNAME:BST
DTSTART:20220327T010000
END:DAYLIGHT
BEGIN:STANDARD
TZOFFSETFROM:+0100
TZOFFSETTO:+0000
TZNAME:GMT
DTSTART:20221030T010000
END:STANDARD
BEGIN:DAYLIGHT
TZOFFSETFROM:+0000
TZOFFSETTO:+0100
TZNAME:BST
DTSTART:20230326T010000
END:DAYLIGHT
BEGIN:STANDARD
TZOFFSETFROM:+0100
TZOFFSETTO:+0000
TZNAME:GMT
DTSTART:20231029T010000
END:STANDARD
BEGIN:DAYLIGHT
TZOFFSETFROM:+0000
TZOFFSETTO:+0100
TZNAME:BST
DTSTART:20240331T010000
END:DAYLIGHT
BEGIN:STANDARD
TZOFFSETFROM:+0100
TZOFFSETTO:+0000
TZNAME:GMT
DTSTART:20241027T010000
END:STANDARD
END:VTIMEZONE
BEGIN:VEVENT
DTSTART;VALUE=DATE:20230812
DTEND;VALUE=DATE:20230813
DTSTAMP:20260419T132343
CREATED:20221223T105027Z
LAST-MODIFIED:20230704T071223Z
UID:698-1691798400-1691884799@www.motorsportni.org
SUMMARY:TARGA RALLY - RATHFRILAND MC
DESCRIPTION:
URL:https://www.motorsportni.org/event/rathfriland/
CATEGORIES:Cancelled Event
ATTACH;FMTTYPE=image/png:https://www.motorsportni.org/wp-content/uploads/2022/12/TARGA.png
END:VEVENT
BEGIN:VEVENT
DTSTART;VALUE=DATE:20230812
DTEND;VALUE=DATE:20230813
DTSTAMP:20260419T132343
CREATED:20221223T104928Z
LAST-MODIFIED:20230815T095441Z
UID:696-1691798400-1691884799@www.motorsportni.org
SUMMARY:CHAMPIONSHIP HILL CLIMB - MID ANTRIM MC
DESCRIPTION:RESULTS \n 
URL:https://www.motorsportni.org/event/mid-antrim-2/
CATEGORIES:Hill Climb
ATTACH;FMTTYPE=image/jpeg:https://www.motorsportni.org/wp-content/uploads/2023/01/DSC2174-rji-1.jpg
END:VEVENT
BEGIN:VEVENT
DTSTART;VALUE=DATE:20230811
DTEND;VALUE=DATE:20230812
DTSTAMP:20260419T132343
CREATED:20230524T154603Z
LAST-MODIFIED:20230524T154603Z
UID:2815-1691712000-1691798399@www.motorsportni.org
SUMMARY:MULTI-VENUE AUTOTEST - CLASSIC AUTOTEST MC
DESCRIPTION:
URL:https://www.motorsportni.org/event/multi-venue-autotest-classic-autotest-mc/
CATEGORIES:Production Car Autotest
END:VEVENT
BEGIN:VEVENT
DTSTART;VALUE=DATE:20230809
DTEND;VALUE=DATE:20230810
DTSTAMP:20260419T132343
CREATED:20221223T104557Z
LAST-MODIFIED:20230807T120004Z
UID:694-1691539200-1691625599@www.motorsportni.org
SUMMARY:AUTOTEST - LARNE MC
DESCRIPTION:
URL:https://www.motorsportni.org/event/larne-6/
CATEGORIES:Cancelled Event
ATTACH;FMTTYPE=image/jpeg:https://www.motorsportni.org/wp-content/uploads/2023/01/IMG_0554-scaled.jpg
END:VEVENT
BEGIN:VEVENT
DTSTART;VALUE=DATE:20230805
DTEND;VALUE=DATE:20230807
DTSTAMP:20260419T132343
CREATED:20221223T104449Z
LAST-MODIFIED:20230209T173055Z
UID:692-1691193600-1691366399@www.motorsportni.org
SUMMARY:CROSS COUNTRY TRIAL - FOUR WHEEL DRIVE CLUB NI
DESCRIPTION:
URL:https://www.motorsportni.org/event/fwdni-13/
CATEGORIES:Cross Country Trial
ATTACH;FMTTYPE=image/jpeg:https://www.motorsportni.org/wp-content/uploads/2023/02/NILRC-3.jpg
END:VEVENT
BEGIN:VEVENT
DTSTART;VALUE=DATE:20230805
DTEND;VALUE=DATE:20230807
DTSTAMP:20260419T132343
CREATED:20221223T104121Z
LAST-MODIFIED:20230816T072913Z
UID:690-1691193600-1691366399@www.motorsportni.org
SUMMARY:CHAMPIONSHIP SPRINT - 500 MRCI
DESCRIPTION:Saturday – Class Results \nSaturday – Overall Results \nSunday – Class Results \nSunday – Overall Results \nReport – Saturday
URL:https://www.motorsportni.org/event/500-mrci-8/
CATEGORIES:Sprint
ATTACH;FMTTYPE=image/jpeg:https://www.motorsportni.org/wp-content/uploads/2022/12/Sprint-3-GC.jpg
END:VEVENT
BEGIN:VEVENT
DTSTART;VALUE=DATE:20230805
DTEND;VALUE=DATE:20230806
DTSTAMP:20260419T132343
CREATED:20230208T152545Z
LAST-MODIFIED:20230208T152545Z
UID:1857-1691193600-1691279999@www.motorsportni.org
SUMMARY:Cross Country Orienteering - NILRC
DESCRIPTION:
URL:https://www.motorsportni.org/event/cross-country-orienteering-nilrc-3/
CATEGORIES:Cross Country Orienteering
ATTACH;FMTTYPE=image/jpeg:https://www.motorsportni.org/wp-content/uploads/2023/02/NILRC-4.jpg
END:VEVENT
BEGIN:VEVENT
DTSTART;VALUE=DATE:20230805
DTEND;VALUE=DATE:20230806
DTSTAMP:20260419T132343
CREATED:20221223T103634Z
LAST-MODIFIED:20230209T145727Z
UID:688-1691193600-1691279999@www.motorsportni.org
SUMMARY:NON-GEARBOX KART RACE - ULSTER K.C.
DESCRIPTION:
URL:https://www.motorsportni.org/event/ulster-k-c-6/
CATEGORIES:Kart Race
ATTACH;FMTTYPE=image/jpeg:https://www.motorsportni.org/wp-content/uploads/2023/01/Karts-DSC_3020-rj-di.jpg
END:VEVENT
BEGIN:VEVENT
DTSTART;VALUE=DATE:20230805
DTEND;VALUE=DATE:20230806
DTSTAMP:20260419T132343
CREATED:20221223T103418Z
LAST-MODIFIED:20230728T075611Z
UID:686-1691193600-1691279999@www.motorsportni.org
SUMMARY:SINGLE VENUE RALLY - CANCELLED
DESCRIPTION:
URL:https://www.motorsportni.org/event/maiden-city-2/
CATEGORIES:Cancelled Event
ATTACH;FMTTYPE=image/jpeg:https://www.motorsportni.org/wp-content/uploads/2023/01/28H-ic-2k.jpg
END:VEVENT
BEGIN:VEVENT
DTSTART;VALUE=DATE:20230805
DTEND;VALUE=DATE:20230806
DTSTAMP:20260419T132343
CREATED:20221223T103255Z
LAST-MODIFIED:20230811T094732Z
UID:684-1691193600-1691279999@www.motorsportni.org
SUMMARY:CHAMPIONSHIP AUTOTEST - DUNGANNON MC
DESCRIPTION:RESULTS\nREPORT
URL:https://www.motorsportni.org/event/dungannon-3/
CATEGORIES:Autotest
ATTACH;FMTTYPE=image/jpeg:https://www.motorsportni.org/wp-content/uploads/2023/01/M-King-2.jpg
END:VEVENT
BEGIN:VEVENT
DTSTART;VALUE=DATE:20230803
DTEND;VALUE=DATE:20230804
DTSTAMP:20260419T132343
CREATED:20221223T103212Z
LAST-MODIFIED:20230801T112512Z
UID:682-1691020800-1691107199@www.motorsportni.org
SUMMARY:CAR CAVALCADE - CLASSIC AUTOTEST MC
DESCRIPTION:
URL:https://www.motorsportni.org/event/classic-autotest-6/
END:VEVENT
BEGIN:VEVENT
DTSTART;VALUE=DATE:20230729
DTEND;VALUE=DATE:20230730
DTSTAMP:20260419T132343
CREATED:20221223T102104Z
LAST-MODIFIED:20230209T145455Z
UID:675-1690588800-1690675199@www.motorsportni.org
SUMMARY:AUTOTEST - LARNE MC
DESCRIPTION:
URL:https://www.motorsportni.org/event/larne-5/
CATEGORIES:Autotest
ATTACH;FMTTYPE=image/jpeg:https://www.motorsportni.org/wp-content/uploads/2023/01/J-Wilson.jpg
END:VEVENT
BEGIN:VEVENT
DTSTART;VALUE=DATE:20230728
DTEND;VALUE=DATE:20230730
DTSTAMP:20260419T132343
CREATED:20221223T102216Z
LAST-MODIFIED:20230724T102516Z
UID:677-1690502400-1690675199@www.motorsportni.org
SUMMARY:SUPER KART RACE - 500 MRCI
DESCRIPTION:
URL:https://www.motorsportni.org/event/500-mrci-7/
CATEGORIES:Kart Race
ATTACH;FMTTYPE=image/jpeg:https://www.motorsportni.org/wp-content/uploads/2023/01/Karts-DSC_3020-rj-di.jpg
END:VEVENT
BEGIN:VEVENT
DTSTART;VALUE=DATE:20230728
DTEND;VALUE=DATE:20230730
DTSTAMP:20260419T132343
CREATED:20221223T101937Z
LAST-MODIFIED:20230724T102429Z
UID:673-1690502400-1690675199@www.motorsportni.org
SUMMARY:CHAMPIONSHIP RACE MEETING - 500 MRCI
DESCRIPTION:
URL:https://www.motorsportni.org/event/500-mrci-6/
CATEGORIES:Race Meeting
ATTACH;FMTTYPE=image/jpeg:https://www.motorsportni.org/wp-content/uploads/2023/01/Race-DSC_1982-rji.jpg
END:VEVENT
BEGIN:VEVENT
DTSTART;VALUE=DATE:20230722
DTEND;VALUE=DATE:20230723
DTSTAMP:20260419T132343
CREATED:20221223T101714Z
LAST-MODIFIED:20230209T145107Z
UID:671-1689984000-1690070399@www.motorsportni.org
SUMMARY:AUTOTEST - ULSTER VINTAGE CC
DESCRIPTION:
URL:https://www.motorsportni.org/event/uvcc-4/
CATEGORIES:Autotest
ATTACH;FMTTYPE=image/jpeg:https://www.motorsportni.org/wp-content/uploads/2023/01/DSC_3700-rji.jpg
END:VEVENT
BEGIN:VEVENT
DTSTART;VALUE=DATE:20230722
DTEND;VALUE=DATE:20230723
DTSTAMP:20260419T132343
CREATED:20221223T101523Z
LAST-MODIFIED:20230209T145018Z
UID:669-1689984000-1690070399@www.motorsportni.org
SUMMARY:AUTOTEST - THOROUGHBRED SPORTS CC
DESCRIPTION:
URL:https://www.motorsportni.org/event/tscc-5/
CATEGORIES:Autotest
ATTACH;FMTTYPE=image/jpeg:https://www.motorsportni.org/wp-content/uploads/2023/01/IMG_0525-scaled.jpg
END:VEVENT
BEGIN:VEVENT
DTSTART;VALUE=DATE:20230722
DTEND;VALUE=DATE:20230723
DTSTAMP:20260419T132343
CREATED:20221223T102440Z
LAST-MODIFIED:20230209T145201Z
UID:679-1689984000-1690070399@www.motorsportni.org
SUMMARY:CHAMPIONSHIP STAGE RALLY - BALLYNAHINCH & DISTRICT MC
DESCRIPTION:
URL:https://www.motorsportni.org/event/ballynahinch-3/
CATEGORIES:Stage Rally
ATTACH;FMTTYPE=image/jpeg:https://www.motorsportni.org/wp-content/uploads/2023/01/DSC_6349-rjci.jpg
END:VEVENT
BEGIN:VEVENT
DTSTART;VALUE=DATE:20230719
DTEND;VALUE=DATE:20230720
DTSTAMP:20260419T132343
CREATED:20221223T101245Z
LAST-MODIFIED:20230210T090606Z
UID:665-1689724800-1689811199@www.motorsportni.org
SUMMARY:AUTOTEST - AUTOTEST DRIVERS CLUB
DESCRIPTION:
URL:https://www.motorsportni.org/event/autotest-drivers-4/
CATEGORIES:Autotest
ATTACH;FMTTYPE=image/jpeg:https://www.motorsportni.org/wp-content/uploads/2023/01/DSC_7222-rj-di.jpg
END:VEVENT
BEGIN:VEVENT
DTSTART;VALUE=DATE:20230708
DTEND;VALUE=DATE:20230709
DTSTAMP:20260419T132343
CREATED:20221223T101151Z
LAST-MODIFIED:20230704T071035Z
UID:663-1688774400-1688860799@www.motorsportni.org
SUMMARY:CANCELLED RALLY TIME TRIAL - ENNISKILLEN MC
DESCRIPTION:
URL:https://www.motorsportni.org/event/enniskillen-5/
CATEGORIES:Cancelled Event
ATTACH;FMTTYPE=image/jpeg:https://www.motorsportni.org/wp-content/uploads/2022/12/Services-1.jpg
END:VEVENT
BEGIN:VEVENT
DTSTART;VALUE=DATE:20230708
DTEND;VALUE=DATE:20230709
DTSTAMP:20260419T132343
CREATED:20221223T100850Z
LAST-MODIFIED:20230623T090201Z
UID:661-1688774400-1688860799@www.motorsportni.org
SUMMARY:CHAMPIONSHIP SPRINT - UAC
DESCRIPTION:
URL:https://www.motorsportni.org/event/tbc-res/
CATEGORIES:Sprint
END:VEVENT
BEGIN:VEVENT
DTSTART;VALUE=DATE:20230706
DTEND;VALUE=DATE:20230707
DTSTAMP:20260419T132343
CREATED:20221223T100751Z
LAST-MODIFIED:20230209T144621Z
UID:659-1688601600-1688687999@www.motorsportni.org
SUMMARY:AUTOTEST - CLASSIC AUTOTEST MC
DESCRIPTION:
URL:https://www.motorsportni.org/event/classic-autotest-5/
CATEGORIES:Autotest
ATTACH;FMTTYPE=image/jpeg:https://www.motorsportni.org/wp-content/uploads/2023/01/Mark-King.jpg
END:VEVENT
BEGIN:VEVENT
DTSTART;VALUE=DATE:20230701
DTEND;VALUE=DATE:20230702
DTSTAMP:20260419T132343
CREATED:20221223T100639Z
LAST-MODIFIED:20230209T144520Z
UID:657-1688169600-1688255999@www.motorsportni.org
SUMMARY:SUPER KART RACE - ULSTER K.C.
DESCRIPTION:
URL:https://www.motorsportni.org/event/ulster-k-c-5/
CATEGORIES:Kart Race
ATTACH;FMTTYPE=image/jpeg:https://www.motorsportni.org/wp-content/uploads/2023/01/Karts-DSC_3138-rj-di.jpg
END:VEVENT
BEGIN:VEVENT
DTSTART;VALUE=DATE:20230701
DTEND;VALUE=DATE:20230702
DTSTAMP:20260419T132343
CREATED:20221223T100527Z
LAST-MODIFIED:20230209T144430Z
UID:655-1688169600-1688255999@www.motorsportni.org
SUMMARY:TARGA RALLY - NORTH ULSTER CC
DESCRIPTION:
URL:https://www.motorsportni.org/event/north-ulster-2/
CATEGORIES:Targa Rally
ATTACH;FMTTYPE=image/jpeg:https://www.motorsportni.org/wp-content/uploads/2022/12/NAV-RALLY.jpg
END:VEVENT
BEGIN:VEVENT
DTSTART;VALUE=DATE:20230701
DTEND;VALUE=DATE:20230702
DTSTAMP:20260419T132343
CREATED:20221223T100437Z
LAST-MODIFIED:20230209T144123Z
UID:653-1688169600-1688255999@www.motorsportni.org
SUMMARY:STAGE RALLY - NORTH ARMAGH MC
DESCRIPTION:
URL:https://www.motorsportni.org/event/north-armagh-2/
CATEGORIES:Stage Rally
ATTACH;FMTTYPE=image/jpeg:https://www.motorsportni.org/wp-content/uploads/2023/01/DSC_8374-Full-rji.jpg
END:VEVENT
BEGIN:VEVENT
DTSTART;VALUE=DATE:20230629
DTEND;VALUE=DATE:20230630
DTSTAMP:20260419T132343
CREATED:20221223T100319Z
LAST-MODIFIED:20230112T112828Z
UID:651-1687996800-1688083199@www.motorsportni.org
SUMMARY:AUTOTEST - MGCC
DESCRIPTION:
URL:https://www.motorsportni.org/event/mgcc-5/
CATEGORIES:Autotest
ATTACH;FMTTYPE=image/jpeg:https://www.motorsportni.org/wp-content/uploads/2023/01/Steven-Ferguson.jpg
END:VEVENT
BEGIN:VEVENT
DTSTART;VALUE=DATE:20230624
DTEND;VALUE=DATE:20230625
DTSTAMP:20260419T132343
CREATED:20221223T100234Z
LAST-MODIFIED:20230629T151416Z
UID:649-1687564800-1687651199@www.motorsportni.org
SUMMARY:CHAMPIONSHIP AUTOTEST - COLERAINE & DISTRICT MC
DESCRIPTION:RESULTS \nEVENT REPORT
URL:https://www.motorsportni.org/event/coleraine-2/
CATEGORIES:Autotest
ATTACH;FMTTYPE=image/jpeg:https://www.motorsportni.org/wp-content/uploads/2023/01/IMG_0554-scaled.jpg
END:VEVENT
BEGIN:VEVENT
DTSTART;VALUE=DATE:20230623
DTEND;VALUE=DATE:20230625
DTSTAMP:20260419T132343
CREATED:20221223T100139Z
LAST-MODIFIED:20230112T112537Z
UID:647-1687478400-1687651199@www.motorsportni.org
SUMMARY:CHAMPIONSHIP RACE MEETING - 500 MRCI
DESCRIPTION:RESULTS \nEVENT REPORT
URL:https://www.motorsportni.org/event/500-mrci-5/
LOCATION:Kirkistown
CATEGORIES:Race Meeting
ATTACH;FMTTYPE=image/jpeg:https://www.motorsportni.org/wp-content/uploads/2023/01/Kart-DSC_0156.jpg
END:VEVENT
BEGIN:VEVENT
DTSTART;VALUE=DATE:20230623
DTEND;VALUE=DATE:20230625
DTSTAMP:20260419T132343
CREATED:20221223T100033Z
LAST-MODIFIED:20230626T083209Z
UID:645-1687478400-1687651199@www.motorsportni.org
SUMMARY:CHAMPIONSHIP HILLCLIMB - LARNE MC
DESCRIPTION:FRIDAY RESULTS \nSATURDAY RESULTS \nEVENT REPORT
URL:https://www.motorsportni.org/event/larne-4/
CATEGORIES:Hill Climb
ATTACH;FMTTYPE=image/jpeg:https://www.motorsportni.org/wp-content/uploads/2022/12/Hill-climb-1-GC.jpg
END:VEVENT
BEGIN:VEVENT
DTSTART;TZID=Europe/London:20230619T200000
DTEND;TZID=Europe/London:20230619T220000
DTSTAMP:20260419T132343
CREATED:20230111T115220Z
LAST-MODIFIED:20230111T115220Z
UID:894-1687204800-1687212000@www.motorsportni.org
SUMMARY:FULL ASSOCIATION MEETING
DESCRIPTION:
URL:https://www.motorsportni.org/event/full-association-meeting-2/
LOCATION:Seagoe Hotel
ATTACH;FMTTYPE=image/png:https://www.motorsportni.org/wp-content/uploads/2022/11/company-logo.png
END:VEVENT
BEGIN:VEVENT
DTSTART;VALUE=DATE:20230618
DTEND;VALUE=DATE:20230619
DTSTAMP:20260419T132344
CREATED:20230208T152200Z
LAST-MODIFIED:20230208T152403Z
UID:1855-1687046400-1687132799@www.motorsportni.org
SUMMARY:Cross Country Orienteering - NILRC
DESCRIPTION:
URL:https://www.motorsportni.org/event/cross-country-orienteering-nilrc-2/
CATEGORIES:Cross Country Orienteering
ATTACH;FMTTYPE=image/jpeg:https://www.motorsportni.org/wp-content/uploads/2023/02/NILRC-1.jpg
END:VEVENT
END:VCALENDAR